BEGIN:VCALENDAR
VERSION:2.0
METHOD:PUBLISH
PRODID:-//Virginia Tech//VT Calendar//EN
BEGIN:VEVENT
DTSTAMP:20190323T043000Z
UID:1545944735683@events.msu.edu
CATEGORIES:Exhibits (Museum, Gardens, ...)
DTSTART:20190323T043000Z
DTEND:20190322T183000Z
SUMMARY:Special Collections Friday Pop-Up: Bird Watchers' Favorites
DESCRIPTION:
  Price: free\n
 Sponsor: Administration\n
 Sponsor's Homepage: http://www.lib.msu.edu\n
 Contact name: Holly Flynn\n
 Contact email: flynnhol@lib.msu.edu\n
LOCATION:Main Library, Special Collections Seminar Room
END:VEVENT
END:VCALENDAR
