BEGIN:VCALENDAR
VERSION:2.0
METHOD:PUBLISH
PRODID:-//Virginia Tech//VT Calendar//EN
BEGIN:VEVENT
DTSTAMP:20190321T223000Z
UID:1550351808547@events.msu.edu
CATEGORIES:Special Events
DTSTART:20190321T223000Z
DTEND:20190321T233000Z
SUMMARY:FileMaker Workplace Innovation Platform
DESCRIPTION:
 Learn how to: create a custom app to reduce repetitive, 
 mundane tasks; share your app instantly 
 across any device; and integrate it with 
 your existing technology stack.\n
 \n
 Free Pizza!!!\n\n
 Price: free\n
 Sponsor: public\n
 Contact name: Heidi Porter\n
 Contact phone: 9198521118\n
 Contact email: hporter@moyergroup.com\n
 for more info visit the web at:\n 
 https://www.meetup.com/Lansing-FileMaker-Pro-User-Group/events/258997035/\n
LOCATION:Recycling Center
END:VEVENT
END:VCALENDAR
