BEGIN:VCALENDAR
VERSION:2.0
METHOD:PUBLISH
PRODID:-//Virginia Tech//VT Calendar//EN
BEGIN:VEVENT
DTSTAMP:20190418T200000Z
UID:1550499788642@events.msu.edu
CATEGORIES:Special Events
DTSTART:20190418T200000Z
DTEND:20190418T220000Z
SUMMARY:Innovation Celebration
DESCRIPTION:
 This event showcases innovative technologies and 
 startups developed in campus labs, classrooms 
 and beyond. We honor MSU researchers and 
 students who reported an invention, licensed 
 a technology or were awarded patents during the 
 academic year and recognize the winners of 
 awards for innovations and achievement in technology 
 transfer and sponsored research.\n\n
 Price: Free\n
 Sponsor: public\n
 Contact name: Janet Foreman\n
 Contact phone: 517-355-2186\n
 Contact email: msut@msu.edu\n
 for more info visit the web at:\n 
 https://technologies.msu.edu/news-events/2019-innovation-celebration\n
LOCATION:Huntington Club, Spartan Stadium
END:VEVENT
END:VCALENDAR
