BEGIN:VCALENDAR
VERSION:2.0
METHOD:PUBLISH
PRODID:-//Virginia Tech//VT Calendar//EN
BEGIN:VEVENT
DTSTAMP:20190408T163000Z
UID:1552674610763@events.msu.edu
CATEGORIES:Conferences / Seminars / Lectures
DTSTART:20190408T163000Z
DTEND:20190408T180000Z
SUMMARY:LGBTQA Financial Literacy - Presented by Ally Detroit Center
DESCRIPTION:
 Ally Financial is presenting three different workshops 
 for LGBTQ undergraduate and graduate 
 students who are planning on job searching or 
 going to a career fair.  \n
 \n
 Tuesday, March 
 19 - LGBTQ Resume and Interview Prep: Student 
 Services Building, Room 6.  2 p.m. - 4 p.m.\n
 \n
 Monday, 
 April 8 - Financial Literacy Discussion 
 - Mosaic Multicultural Center, Conference 
 Room - 11:30 a.m. - 1 p.m.\n
 \n
 Tuesday, April 
 9 - Out at Work: Lunch and Learn: Student 
 Services Building, Room 6, 11:30 a.m. - 1 p.m.\n
 \n\n
 Price: free\n
 Sponsor: public\n
 Contact name: Oprah Jrenal\n
 Contact email: oprah@msu.edu\n
 for more info visit the web at:\n 
 http://www.facebook.com/events/2354491927894931/\n
LOCATION:Mosaic Multi-Purpose Room
END:VEVENT
END:VCALENDAR
