BEGIN:VCALENDAR
VERSION:2.0
METHOD:PUBLISH
PRODID:-//Virginia Tech//VT Calendar//EN
BEGIN:VEVENT
DTSTAMP:20190413T050000Z
UID:1553268044679@events.msu.edu
CATEGORIES:Conferences / Seminars / Lectures
DTSTART;VALUE=DATE:20190413
DTEND;VALUE=DATE:20190414
SUMMARY:Fate of the Earth 2019
DESCRIPTION:
 Fate of the Earth both celebrates our engagement 
 with the environment and engages us in effective 
 action to address serious problems like 
 climate change and toxics. This year's program 
 includes plenary presentations on: Climate 
 Change and Michigan, Michigan's Environmental 
 Roadmap, Climate and Environment in the Age 
 of Trump and The Green New Deal.  The program 
 also features more than a dozen workshops, 
 posters of student environmental research and 
 a display of elementary and secondary student 
 artwork.\n\n
 Price: free\n
 Sponsor: public\n
 Contact name: Karessa Elizabeth Weir\n
 Contact phone: 5173539246\n
 Contact email: weirkare@msu.edu\n
 for more info visit the web at:\n 
 http://www.espp.msu.edu/events/fateoftheearth/2019/index.html\n
LOCATION:Kellogg Center
END:VEVENT
END:VCALENDAR
