BEGIN:VCALENDAR
VERSION:2.0
METHOD:PUBLISH
PRODID:-//Virginia Tech//VT Calendar//EN
BEGIN:VEVENT
DTSTAMP:20190416T160000Z
UID:1553268187926@events.msu.edu
CATEGORIES:Conferences / Seminars / Lectures
DTSTART:20190416T160000Z
DTEND:20190416T173000Z
SUMMARY:Sustainable Coffee Develoment in Rwanda
DESCRIPTION:
 An Environmental Science and Policy Program Research 
 Colloquium featuring Andrew Gerard, community 
 sustainability and ESPP; Dr. Ameet Morjaria, 
 assistant professor of managerial economics 
 and decision sciences, Northwestern University; 
 Dr. Maria Claudia Lopez, assistant 
 professor of community sustainability, MSU;Dr. 
 David Ortega, associate professor of agriculture, 
 food and resource economics, MSU\n\n
 Price: free\n
 Sponsor: public\n
 Contact name: Karessa Elizabeth Weir\n
 Contact phone: 5174142304\n
 Contact email: weirkare@msu.edu\n
 for more info visit the web at:\n 
 http://www.espp.msu.edu/events/research_seminars/coffee2.pdf\n
LOCATION:210 International Center
END:VEVENT
END:VCALENDAR
