BEGIN:VCALENDAR
VERSION:2.0
METHOD:PUBLISH
PRODID:-//Virginia Tech//VT Calendar//EN
BEGIN:VEVENT
DTSTAMP:20190420T140000Z
UID:1554143471035-0016@events.msu.edu
CATEGORIES:Special Events
DTSTART:20190420T140000Z
DTEND:20190421T035900Z
SUMMARY:MSU Science Festival
DESCRIPTION:
 The 7th Annual MSU Science Festival is set for 
 April 5 - 20, 2019\n
 \n
  The line-up will include 
 topics on science, technology, engineering, 
 arts, and mathematics (STEAM), with talks, 
 demonstrations, tours, open houses, hands-on 
 activities, and special presentations by renowned 
 scientists. \n\n
 Sponsor: Administration\n
 Sponsor's Homepage: https://sciencefestival.msu.edu/\n
 for more info visit the web at:\n 
 https://sciencefestival.msu.edu/\n
END:VEVENT
END:VCALENDAR
