BEGIN:VCALENDAR
VERSION:2.0
METHOD:PUBLISH
PRODID:-//Virginia Tech//VT Calendar//EN
BEGIN:VEVENT
DTSTAMP:20190411T003000Z
UID:1554467843808@events.msu.edu
CATEGORIES:Public Programs
DTSTART:20190411T003000Z
DTEND:20190411T020000Z
SUMMARY:Reflecting on the Israeli Elections With  Dr. Yael Aronoff
DESCRIPTION:
 What explains the results of the Israeli Elections 
 on April 9th? What were the main issues 
 on which Israelis voted? Lecture followed by 
 discussion of these questions and more. This 
 event is co-sponsored by the College of Arts 
 and Letters, the Asian Studies Center, James 
 Madison College, and the Political Science Department.\n\n
 Price: free\n
 Sponsor: public\n
 Contact name: Yael Aronoff\n
 Contact phone: 517-432-3493\n
 Contact email: jewishst@msu.edu\n
 for more info visit the web at:\n 
 http://www.jsp.msu.edu\n
LOCATION:JMC Library
END:VEVENT
END:VCALENDAR
