BEGIN:VCALENDAR
VERSION:2.0
METHOD:PUBLISH
PRODID:-//Virginia Tech//VT Calendar//EN
BEGIN:VEVENT
DTSTAMP:20190414T170000Z
UID:1554578687564@events.msu.edu
CATEGORIES:Exhibits (Museum, Gardens, ...)
DTSTART:20190414T170000Z
DTEND:20190414T200000Z
SUMMARY:Free Public Tours: Every Saturday and Sunday
DESCRIPTION:
 Stop by the MSU Broad for free docent-led tours 
 of our current exhibitions, including our newest 
 exhibition Oscar Tuazon: Water School, 
 which explores the intersection of art, architecture, 
 and sustainability. Offered every Saturday 
 and Sunday at 1pm and 3pm.\n\n
 Price: free\n
 Sponsor: public\n
 Contact name: MSU Broad\n
 Contact phone: (517) 884-4800\n
 Contact email: eebam@msu.edu\n
 for more info visit the web at:\n 
 http://www.broadmuseum.msu.edu\n
LOCATION:Eli and Edythe Broad Art Museum
END:VEVENT
END:VCALENDAR
