BEGIN:VCALENDAR
VERSION:2.0
METHOD:PUBLISH
PRODID:-//Virginia Tech//VT Calendar//EN
BEGIN:VEVENT
DTSTAMP:20190423T230000Z
UID:1555108366048@events.msu.edu
CATEGORIES:Public Programs
DTSTART:20190423T230000Z
DTEND:20190424T010000Z
SUMMARY:Open Call: 8 Elements of Art and Music: Color
DESCRIPTION:
 8 Elements of Art and Music is a hands-on interdisciplinary 
 workshop series where adults can 
 have fun exploring the connection between classical 
 music and visual arts in a relaxed environment. 
 It's painting time! What colors do 
 you imagine when listening to music? How do 
 the colors of the art influence your impression? 
 Come explore French Impressionism and paint 
 the beautiful colors you find in music and 
 art! \n\n
 Price: free\n
 Sponsor: public\n
 Contact name: MSU Broad\n
 Contact phone: (517) 884-4800\n
 Contact email: eebam@msu.edu\n
 for more info visit the web at:\n 
 http://www.broadmuseum.msu.edu\n
LOCATION:MSU Broad Art Lab
END:VEVENT
END:VCALENDAR
