BEGIN:VCALENDAR
VERSION:2.0
METHOD:PUBLISH
PRODID:-//Virginia Tech//VT Calendar//EN
BEGIN:VEVENT
DTSTAMP:20190614T223000Z
UID:1559576195046@events.msu.edu
CATEGORIES:Performing Arts (Dance, Music, Theatre,  ...)
DTSTART:20190614T223000Z
DTEND:20190615T000000Z
SUMMARY:Summer Circle Theatre presents Comic Timing
DESCRIPTION:
 Hardy likes to make jokes. All of the time. When 
 his friends and family ask him to go a week 
 without making any wisecracks, Hardy learns 
 how much he has been hiding behind his humor. 
 Appropriate for all ages. Free parking is available 
 across the street. In the event of rain, 
 the performances will be moved into the 
 Fairchild Theatre. Theatregoers can arrive early 
 to grab a Summer Circle seat next to the 
 stage or bring their own chairs for casual lawn 
 seating. More information at the listed link. 
 See you at the circle!\n\n
 Price: FREE and open to the public\n
 Sponsor: public\n
 Contact name: Brian DeVries\n
 Contact phone: 517-355-6690\n
 Contact email: devri124@msu.edu\n
 for more info visit the web at:\n 
 http://theatre.msu.edu/sct\n
LOCATION:Summer Circle Theatre Courtyard (next to Kresge)
END:VEVENT
END:VCALENDAR
