BEGIN:VCALENDAR
VERSION:2.0
METHOD:PUBLISH
PRODID:-//Virginia Tech//VT Calendar//EN
BEGIN:VEVENT
DTSTAMP:20190725T160000Z
UID:1561756758731@events.msu.edu
CATEGORIES:Exhibits (Museum, Gardens, ...)
DTSTART:20190725T160000Z
DTEND:20190725T200000Z
SUMMARY:Create a Butterfly Garden with AgeAlive
DESCRIPTION:
 Have you ever used art for transformative healing? 
 Drop in to the Studio to paint, write messages 
 on, and fold butterflies that can become 
 part of a unique exhibit; a butterfly "garden". 
 Feel free to take your butterflies home 
 or add them to the community healing garden, 
 inspired by local Artist Zahrah Resh, in partnership 
 with AgeAlive, a campus program committed 
 to a holistic view of health, wellbeing, 
 and quality of life throughout life.\n
 \n
 Learn 
 about Artist Zahrah Resh at http://www.zahrahrgallery.com/. 
 \n
 Learn about AgeAlive at http://www.agealive.org/.\n\n
 Price: Free\n
 Sponsor: public\n
 Contact name: Broad MSU\n
 Contact phone: 5178844800\n
 Contact email: eebam@msu.edu\n
 for more info visit the web at:\n 
 http://broadmuseum.msu.edu\n
LOCATION:MSU Broad Art Lab
END:VEVENT
END:VCALENDAR
