BEGIN:VCALENDAR
VERSION:2.0
METHOD:PUBLISH
PRODID:-//Virginia Tech//VT Calendar//EN
BEGIN:VEVENT
DTSTAMP:20190829T210000Z
UID:1562856254075@events.msu.edu
CATEGORIES:Performing Arts (Dance, Music, Theatre,  ...)
DTSTART:20190829T210000Z
DTEND:20190829T230000Z
SUMMARY:Wharton Welcomes MSU Concert
DESCRIPTION:
 Featuring Joe Hertler performing a solo acoustic 
 outdoor concert. Hertler is the lead singer 
 of Joe Hertler and the Rainbow Seekers. Free 
 MSU Dairy Store Ice Cream while supplies last. 
 For more information, please visit whartoncenter.com 
 or call 1-800-WHARTON.\n\n
 Price: Free Admission\n
 Sponsor: public\n
 Contact name: Bob Hoffman\n
 Contact email: bob.hoffman@whartoncenter.com\n
 for more info visit the web at:\n 
 https://www.whartoncenter.com/events/detail/wharton-welcomes-msu-concert\n
LOCATION:Wharton Center Plaza
END:VEVENT
END:VCALENDAR
