BEGIN:VCALENDAR
VERSION:2.0
METHOD:PUBLISH
PRODID:-//Virginia Tech//VT Calendar//EN
BEGIN:VEVENT
DTSTAMP:20190919T230000Z
UID:1565195188628@events.msu.edu
CATEGORIES:Public Programs
DTSTART:20190919T230000Z
DTEND:20190920T003000Z
SUMMARY:The Pathology of Political Polarization-The Story of Israel's 2019 Elections
DESCRIPTION:
 For the first time in its history, Israel's April 
 2019 elections ended in stalemate, and Likud 
 Party Chair Benyamin Netanyahu was unable 
 to cobble together a coalition with over 50% 
 of the Knesset members. Israel's parliament 
 subsequently disbanded and new elections were 
 called for September 17th. Two days after the 
 elections, a post-election wrap up will take 
 place, beginning with a presentation by Alon 
 Tal, MSU's 2019 Serling Visiting Professor 
 - and a founding member of the Blue & White party's 
 list of Knesset candidates, who actively 
 participated in both 2019 campaigns.\n\n
 Price: free and open to the public\n
 Sponsor: Serling Institute for Jewish Studies and Modern 
 Israel\n
 Sponsor's Homepage: http://events.msu.edu/jewishstudies/\n
 Contact name: Serling Institute for Jewish Studies and Modern 
 Israel\n
 Contact phone: 5174323493\n
 Contact email: jewishst@msu.edu\n
 for more info visit the web at:\n 
 http://jsp.msu.edu\n
LOCATION:Case Hall, James Madison Library
END:VEVENT
END:VCALENDAR
