BEGIN:VCALENDAR
VERSION:2.0
METHOD:PUBLISH
PRODID:-//Virginia Tech//VT Calendar//EN
BEGIN:VEVENT
DTSTAMP:20191016T233000Z
UID:1565360178691@events.msu.edu
CATEGORIES:Performing Arts (Dance, Music, Theatre,  ...)
DTSTART:20191016T233000Z
DTEND:20191017T035900Z
SUMMARY:Frankenstein presented by MSU Dept of Theatre
DESCRIPTION:
 Frankenstein\n
 \n
 By Mary Shelley\n
 Adapted by Quinn 
 Mattfeld\n
 Directed by Ryan Welsh\n
 \n
 A new 
 adaptation of Mary Shelley's classic novel examining 
 gender norms and the plight of humanity 
 at the hands of a thoughtless creator. Just 
 because science can...doesn't mean it should.\n
 \n
 PASANT 
 THEATRE\n
 \n
 Tickets are available 
 from the Wharton Center Box Office, 1.800.WHARTON, 
 whartoncenter.com\n\n
 Price: General Admission $17, Seniors and Faculty $15, 
 Students $12\n
 Sponsor: public\n
 Contact name: Brian DeVries\n
 Contact phone: 517-355-6690\n
 Contact email: theatre@msu.edu\n
 for more info visit the web at:\n 
 https://www.whartoncenter.com/events/detail/frankenstein\n
LOCATION:Wharton Center Pasant Theatre
END:VEVENT
END:VCALENDAR
