BEGIN:VCALENDAR
VERSION:2.0
METHOD:PUBLISH
PRODID:-//Virginia Tech//VT Calendar//EN
BEGIN:VEVENT
DTSTAMP:20190926T233000Z
UID:1565977804597@events.msu.edu
CATEGORIES:Performing Arts (Dance, Music, Theatre,  ...)
DTSTART:20190926T233000Z
DTEND:20190927T035900Z
SUMMARY:Wind Symphony
DESCRIPTION:
 Kevin L. Sedatole, conductor\n
 Omar Thomas, guest 
 composer\n
 Nelson - Rocky Point Holiday\n
 Specht 
 - Scenes from Home (MSU Composition Contest 
 winner)\n
 Sousa - The Gallant Seventh\n
 Love 
 - Musica Dei, donum optimi\n
 Thomas - Come Sunday\n
 \n\n
 Price: $\n
 Sponsor: College of Music\n
 Sponsor's Homepage: http://www.music.msu.edu\n
 Contact name: Nick Culver\n
 Contact phone: 5173535340\n
 Contact email: musicpr@msu.edu\n
 for more info visit the web at:\n 
 https://www.music.msu.edu/event-listing/wind-symphony-25\n
LOCATION:Cobb Great Hall, Wharton Center
END:VEVENT
END:VCALENDAR
