BEGIN:VCALENDAR
VERSION:2.0
METHOD:PUBLISH
PRODID:-//Virginia Tech//VT Calendar//EN
BEGIN:VEVENT
DTSTAMP:20191121T000000Z
UID:1565983727612@events.msu.edu
CATEGORIES:Performing Arts (Dance, Music, Theatre,  ...)
DTSTART:20191121T000000Z
DTEND:20191121T045900Z
SUMMARY:Jacques Offenbach:  Orpheus in the Underworld
DESCRIPTION:
 Sung in English, this opera is a lampoon of the 
 ancient legend of Orpheus and Eurydice. In 
 this version, Orpheus is not the son of Apollo 
 but rather a rustic violin teacher. See and 
 hear this comedic look at the Orpheus legend 
 that goes from Earth to Olympus to the best 
 party of all in Hades! \n
 \n
 Preview lectures are 
 held 45 minutes prior to each performance. 
 Reserved seating. $22 for adults; $20 for seniors; 
 $7 for students. Tickets available from 
 College of Music box office, (517) 353-5340, 
 online at music.msu.edu, or at the door.\n
 \n\n
 Price: $$\n
 Sponsor: College of Music\n
 Sponsor's Homepage: http://www.music.msu.edu\n
 Contact name: Nick Culver\n
 Contact phone: 5173535340\n
 Contact email: musicpr@msu.edu\n
 for more info visit the web at:\n 
 https://www.music.msu.edu/event-listing/jacques-offenbach-orpheus-in-the-underworld\n
LOCATION:Fairchild Theatre
END:VEVENT
END:VCALENDAR
