BEGIN:VCALENDAR
VERSION:2.0
METHOD:PUBLISH
PRODID:-//Virginia Tech//VT Calendar//EN
BEGIN:VEVENT
DTSTAMP:20200120T000000Z
UID:1565985412856@events.msu.edu
CATEGORIES:Performing Arts (Dance, Music, Theatre,  ...)
DTSTART:20200120T000000Z
DTEND:20200120T045900Z
SUMMARY:Jazz: Spirituals, Prayer and Protest Concert
DESCRIPTION:
 A commemorative concert celebrating the birth 
 of Martin Luther King, Jr., features Jazz Orchestras 
 and special guests.\n
 Tickets are required 
 for admission: \n
 Free tickets are available 
 over the phone \n
 at 517-353-5340 or for pick-up 
 from the College of Music main office 
 (333 W. Circle Drive, East Lansing) M-F, 8 a.m.-5 
 p.m.\n
 Generously sponsored by Patrick McPharlin.\n
 \n\n
 Price: free\n
 Sponsor: College of Music\n
 Sponsor's Homepage: http://www.music.msu.edu\n
 Contact name: Nick Culver\n
 Contact phone: 5173535340\n
 Contact email: musicpr@msu.edu\n
 for more info visit the web at:\n 
 https://www.music.msu.edu/event-listing/jazz-spirituals-prayer-and-protest-concert-4\n
LOCATION:Fairchild Theatre
END:VEVENT
END:VCALENDAR
