BEGIN:VCALENDAR
VERSION:2.0
METHOD:PUBLISH
PRODID:-//Virginia Tech//VT Calendar//EN
BEGIN:VEVENT
DTSTAMP:20200221T003000Z
UID:1565992769787@events.msu.edu
CATEGORIES:Performing Arts (Dance, Music, Theatre,  ...)
DTSTART:20200221T003000Z
DTEND:20200221T045900Z
SUMMARY:Concert Orchestra
DESCRIPTION:
 Joseph Hodge, conductor\n\n
 Price: $\n
 Sponsor: College of Music\n
 Sponsor's Homepage: http://www.music.msu.edu\n
 Contact name: Nick Culver\n
 Contact phone: 5173535340\n
 Contact email: musicpr@msu.edu\n
 for more info visit the web at:\n 
 https://www.music.msu.edu/event-listing/concert-orchestra-12\n
LOCATION:Cobb Great Hall, Wharton Center
END:VEVENT
END:VCALENDAR
