BEGIN:VCALENDAR
VERSION:2.0
METHOD:PUBLISH
PRODID:-//Virginia Tech//VT Calendar//EN
BEGIN:VEVENT
DTSTAMP:20191001T213000Z
UID:1566830851805@events.msu.edu
CATEGORIES:Performing Arts (Dance, Music, Theatre,  ...)
DTSTART:20191001T213000Z
DTEND:20191001T224500Z
SUMMARY:Same Gig, New Century: Baroque Techniques and Music Careers
DESCRIPTION:
 Early Music and Historical Performance, once on 
 the fringe of the larger world of Classical 
 Music, is now one of the fastest growing sectors 
 of music.\n
 \n
 In this workshop, Drs. Lindsey 
 Strand-Polyak and Alexa Haynes-Pilon will 
 talk about their careers as freelance professionals 
 in Early Music, providing advice and 
 resources for performers and music educators. 
 They will also give an introduction on delving 
 in to Historical Performance principals that 
 you can apply to your next Messiah performance 
 or Holiday concert. Bring your instrument!\n\n
 Price: free\n
 Sponsor: College of Music\n
 Sponsor's Homepage: http://www.music.msu.edu\n
 Contact name: Nick Culver\n
 Contact phone: 5173535340\n
 Contact email: musicpr@msu.edu\n
 for more info visit the web at:\n 
 https://www.music.msu.edu/event-listing/same-gig-new-century-baroque-techniques-and-music-careers\n
LOCATION:MB 145
END:VEVENT
END:VCALENDAR
