BEGIN:VCALENDAR
VERSION:2.0
METHOD:PUBLISH
PRODID:-//Virginia Tech//VT Calendar//EN
BEGIN:VEVENT
DTSTAMP:20191003T170000Z
UID:1566996083401@events.msu.edu
CATEGORIES:International Events (Study Abroad, ...)
DTSTART:20191003T170000Z
DTEND:20191003T210000Z
SUMMARY:Education Abroad Expo
DESCRIPTION:
 The Education Abroad Expo is a comprehensive information 
 event for anyone interested in learning 
 more about the many exciting education 
 abroad opportunities available at Michigan State 
 University.\n
 \n
 Close to 200 exhibits displaying 
 information about MSU's wide variety of 
 programs and support services will be available 
 for students to browse and ask questions.\n
 \n
 If 
 you've ever thought about international 
 study, the Education Abroad Expo is the perfect 
 place to begin your search.\n\n
 Price: free\n
 Sponsor: public\n
 Contact name: Cheryl Benner\n
 Contact email: bennerc@msu.edu\n
 for more info visit the web at:\n 
 https://educationabroad.isp.msu.edu/education-abroad-expo/\n
LOCATION:Breslin Center
END:VEVENT
END:VCALENDAR
