BEGIN:VCALENDAR
VERSION:2.0
METHOD:PUBLISH
PRODID:-//Virginia Tech//VT Calendar//EN
BEGIN:VEVENT
DTSTAMP:20190905T190000Z
UID:1567014319720@events.msu.edu
CATEGORIES:Administration
DTSTART:20190905T190000Z
DTEND:20190905T210000Z
SUMMARY:"Salvage" Movie Screening
DESCRIPTION:
 Before the screening, get a behind-the-scenes 
 look at SSRC's operations and history, talk with 
 student and full-time staff members and enter 
 to win a "Surplustomer" prize basket.\n
 	\n
 At 
 the close of the hour-long film, which premiered 
 this spring at the South by Southwest 
 Festival, SSRC will host a live interview and 
 Q & A session with the director.\n
 \n
 Tickets 
 are free, but seating is limited. Register 
 via Facebook or Eventbrite. \n\n
 Price: free\n
 Sponsor: Administration\n
 Sponsor's Homepage: http://events.msu.edu/\n
LOCATION:Surplus Store
END:VEVENT
END:VCALENDAR
