BEGIN:VCALENDAR
VERSION:2.0
METHOD:PUBLISH
PRODID:-//Virginia Tech//VT Calendar//EN
BEGIN:VEVENT
DTSTAMP:20190913T200000Z
UID:1568214511236@events.msu.edu
CATEGORIES:Exhibits (Museum, Gardens, ...)
DTSTART:20190913T200000Z
DTEND:20190913T220000Z
SUMMARY:Kresge Mural Summer Project Reception
DESCRIPTION:
 "Our goal is to create a thought-provoking space 
 that invites the community to embrace the 
 absurd. Indulgent pastels tell a story that is 
 vibrant, lighthearted, and encourages the viewer 
 not to take life too seriously."\n
 \n
 This 
 body of work is featured on the backside of 
 Kresge Art Building, near the new pavilion. 
 \n\n
 Price: free\n
 Sponsor: Administration\n
 Sponsor's Homepage: http://events.msu.edu/\n
LOCATION:Kresge Art Center
END:VEVENT
END:VCALENDAR
