BEGIN:VCALENDAR
VERSION:2.0
METHOD:PUBLISH
PRODID:-//Virginia Tech//VT Calendar//EN
BEGIN:VEVENT
DTSTAMP:20191204T230000Z
UID:1568902126930@events.msu.edu
CATEGORIES:Student Events
DTSTART:20191204T230000Z
DTEND:20191205T010000Z
SUMMARY:Color Me Queer
DESCRIPTION:
 A discussion group facilitated by the LBGT Resource 
 Center. The group is open to all who identify 
 as Black, African American, Asian, Asian 
 American, Native American, Indigenous, Latinx, 
 multi-racial, or allies educated on race, 
 privilege, difference, and White Supremacy. 
  Participants will have the opportunity to build 
 community, resource share, share MSU experiences 
 and do goal setting. If you are interested 
 in discussing societal issues that span 
 sexuality, gender, and race as well as strategies 
 for self-care, please consider joining 
 us!\n\n
 Price: free\n
 Sponsor: public\n
 Contact name: LBGTRC\n
 Contact email: lbgtrc@msu.edu\n
 for more info visit the web at:\n 
 https://lbgtrc.msu.edu/programs-and-services/color-me-queer-discussion-group/\n
LOCATION:Student Services Building - LBGT Resource Center
END:VEVENT
END:VCALENDAR
