BEGIN:VCALENDAR
VERSION:2.0
METHOD:PUBLISH
PRODID:-//Virginia Tech//VT Calendar//EN
BEGIN:VEVENT
DTSTAMP:20191203T050000Z
UID:1569951073374@events.msu.edu
CATEGORIES:Public Programs
DTSTART;VALUE=DATE:20191203
DTEND;VALUE=DATE:20191204
SUMMARY:Give Green Day
DESCRIPTION:
 On Tuesday, December 3, Spartans near and far 
 will come together to make a better tomorrow. 
 Give Green Day is a chance to give back and 
 make a difference to impact current and future 
 Spartans.\n\n
 Price: free\n
 Sponsor: Administration\n
 Sponsor's Homepage: http://events.msu.edu/\n
 for more info visit the web at:\n 
 https://givingday.msu.edu/index.cfm\n
END:VEVENT
END:VCALENDAR
