BEGIN:VCALENDAR
VERSION:2.0
METHOD:PUBLISH
PRODID:-//Virginia Tech//VT Calendar//EN
BEGIN:VEVENT
DTSTAMP:20191022T201000Z
UID:1570456437718@events.msu.edu
CATEGORIES:Conferences / Seminars / Lectures
DTSTART:20191022T201000Z
DTEND:20191022T211000Z
SUMMARY:Chemistry Department Max T. Rogers Lectureship
DESCRIPTION:
 Dr. Geraldine Richmond of the University of Oregon 
 will present a seminar for the Max T. Rogers 
 Lectureship series sponsored by the Chemistry 
 Department titled "Surf, Sink, or Swim: 
 Understanding Environmentally Important Processes 
 at Water Surfaces." Host: Professor Gary 
 Blanchard\n\n
 Price: free\n
 Sponsor: Chemistry\n
 Sponsor's Homepage: http://www.chemistry.msu.edu/\n
 Contact name: Sarah Quraishi\n
 Contact phone: +15173531082\n
 Contact email: quraish3@msu.edu\n
LOCATION:136 Chemistry Bldg.
END:VEVENT
END:VCALENDAR
