BEGIN:VCALENDAR
VERSION:2.0
METHOD:PUBLISH
PRODID:-//Virginia Tech//VT Calendar//EN
BEGIN:VEVENT
DTSTAMP:20191020T140000Z
UID:1570990772415@events.msu.edu
CATEGORIES:Public Programs
DTSTART:20191020T140000Z
DTEND:20191020T200000Z
SUMMARY:Makers Market at the MSU Broad Art Lab
DESCRIPTION:
 Join us this fall for another Makers Market at 
 the MSU Broad Art Lab! This two-day event will 
 empower a growing and vibrant community of 
 creatives across the Mitten State, held in its 
 very own capital city. The Greater Lansing 
 community is invited to shop a variety of handmade 
 goods from Michigan makers! \n
 \n\n
 Price: Free and open to the public\n
 Sponsor: public\n
 Contact name: Broad MSU\n
 Contact phone: 5178844800\n
 Contact email: eebam@msu.edu\n
 for more info visit the web at:\n 
 http://broadmuseum.msu.edu\n
LOCATION:MSU Broad Art Lab
END:VEVENT
END:VCALENDAR
