BEGIN:VCALENDAR
VERSION:2.0
METHOD:PUBLISH
PRODID:-//Virginia Tech//VT Calendar//EN
BEGIN:VEVENT
DTSTAMP:20191025T220000Z
UID:1570990941607@events.msu.edu
CATEGORIES:Exhibits (Museum, Gardens, ...)
DTSTART:20191025T220000Z
DTEND:20191026T000000Z
SUMMARY:The Broadcast Exhibition Opening Preview
DESCRIPTION:
 In this era of hypermedia production, whose stories 
 are considered newsworthy? Whose voices 
 are represented? And who do these stories belong 
 to? Confronting these timely questions, 
 Chicago-based artist Kirsten Leenaars embarked 
 on a community-based project with a group of 
 high schoolers from the Greater Lansing area. 
 Together, they explored issues involving truth 
 and distortion in the media through the 
 production of The Broadcast, a collaborative 
 multimedia exhibition. Join us at the Art Lab 
 and meet artist Kirsten Leenaars in celebration 
 of the opening of this exciting exhibition. 
 \n
 \n
 This exhibition is curated by Steven Bridges, 
 Associate Curator, and on view at the 
 MSU Broad Art Lab Oct. 26, 2019-April 5, 2020. 
 \n
 \n\n
 Price: Free and open to the public\n
 Sponsor: public\n
 Contact name: Broad MSU\n
 Contact phone: 5178844800\n
 Contact email: eebam@msu.edu\n
 for more info visit the web at:\n 
 http://broadmuseum.msu.edu\n
LOCATION:MSU Broad Art Lab
END:VEVENT
END:VCALENDAR
