BEGIN:VCALENDAR
VERSION:2.0
METHOD:PUBLISH
PRODID:-//Virginia Tech//VT Calendar//EN
BEGIN:VEVENT
DTSTAMP:20191117T200000Z
UID:1572636987182@events.msu.edu
CATEGORIES:Performing Arts (Dance, Music, Theatre,  ...)
DTSTART:20191117T200000Z
DTEND:20191117T220000Z
SUMMARY:Lansing Symphony Family Series
DESCRIPTION:
 Join the Lansing Symphony, Capital Area District 
 Library, and MSU Broad Art Museum for the 
 Lansing Symphony Family Series at the Downtown 
 Lansing library and Art Lab. Connecting young 
 children with music and literature, these 
 concerts include an interactive performance with 
 LSO musicians, followed by a making activity 
 that incorporates the performance. Keep the 
 music going November 17 (Art Lab), December 
 8, February 9, March 8 (Art Lab), and May 3. 
 \n\n
 Price: Free and open to the public\n
 Sponsor: public\n
 Contact name: Broad MSU\n
 Contact phone: 5178844800\n
 Contact email: eebam@msu.edu\n
 for more info visit the web at:\n 
 http://broadmuseum.msu.edu\n
LOCATION:MSU Broad Art Lab
END:VEVENT
END:VCALENDAR
