BEGIN:VCALENDAR
VERSION:2.0
METHOD:PUBLISH
PRODID:-//Virginia Tech//VT Calendar//EN
BEGIN:VEVENT
DTSTAMP:20191122T180000Z
UID:1574100122387@events.msu.edu
CATEGORIES:Public Programs
DTSTART:20191122T180000Z
DTEND:20191122T210000Z
SUMMARY: Expressions of Identity: Exploring Art History 
DESCRIPTION:
 Expressions of Identity: Exploring Art History 
 recognizes the scholarly achievements of senior 
 undergraduate students who study Art History 
 and Visual Culture in the Department of Art, 
 Art History and Design at Michigan State 
 University.\n
 \n
 The 2019 Symposium features five 
 independent research projects by students 
 enrolled in HA 499, Senior Research and Professional 
 Development Seminar. As the capstone 
 experience for Art History and Visual Culture 
 majors, the course addresses career planning 
 as well as engages students in the production 
 of a substantial scholarly paper under the 
 guidance of an art history faculty mentor.\n\n
 Price: free\n
 Sponsor: Administration\n
 Sponsor's Homepage: http://events.msu.edu/\n
 for more info visit the web at:\n 
 https://mailchi.mp/msu/2019-art-history-visual-culture-symposium-and-keynote-lecture-dr-huey-copelan\n
LOCATION:MSU Main Library Green Room
END:VEVENT
END:VCALENDAR
