BEGIN:VCALENDAR
VERSION:2.0
METHOD:PUBLISH
PRODID:-//Virginia Tech//VT Calendar//EN
BEGIN:VEVENT
DTSTAMP:20200604T133000Z
UID:1575578309717-0001@events.msu.edu
CATEGORIES:Public Programs
DTSTART:20200604T133000Z
DTEND:20200604T210000Z
SUMMARY:Michigan Turtle Identification and Management
DESCRIPTION:
 Are you wild about turtles? Join Brenden Reid 
 (PhD) for an interactive learning experience 
 that will sharpen your knowledge of Michigan 
 turtle natural history.  You will also learn 
 how scientists study turtles and find out how 
 you can manage and conserve turtle habitats 
 in Michigan.\n
 \n
 This course will include indoor 
 lecture and a field component. Participants 
 will visit Sherriff's Marsh, a large wetland 
 on private property near KBS that is the site 
 of a long-term study (>50 years) on local 
 turtle species.\n\n
 Price: Course Fees: Members $170, Non-members $200\n
 Sponsor: Administration\n
 Sponsor's Homepage: http://events.msu.edu/\n
LOCATION:Kellogg Bird Sanctuary
END:VEVENT
END:VCALENDAR
