BEGIN:VCALENDAR
VERSION:2.0
METHOD:PUBLISH
PRODID:-//Virginia Tech//VT Calendar//EN
BEGIN:VEVENT
DTSTAMP:20200104T160000Z
UID:1576602488819@events.msu.edu
CATEGORIES:Public Programs
DTSTART:20200104T160000Z
DTEND:20200104T200000Z
SUMMARY:Family Day: Chance
DESCRIPTION:
 First Saturday means Family Day at the MSU Broad! 
 Bring your family to make creative connections 
 with our exhibitions through free art activities 
 inspired by monthly themes. All ages 
 are welcome.\n\n
 Price: Free and open to the public\n
 Sponsor: public\n
 Contact name: Broad MSU\n
 Contact phone: 5178844800\n
 Contact email: eebam@msu.edu\n
 for more info visit the web at:\n 
 http://broadmuseum.msu.edu\n
LOCATION:Eli and Edythe Broad Art Museum at Michigan State University
END:VEVENT
END:VCALENDAR
