BEGIN:VCALENDAR
VERSION:2.0
METHOD:PUBLISH
PRODID:-//Virginia Tech//VT Calendar//EN
BEGIN:VEVENT
DTSTAMP:20200113T010000Z
UID:1578414112445@events.msu.edu
CATEGORIES:Performing Arts (Dance, Music, Theatre,  ...)
DTSTART:20200113T010000Z
DTEND:20200113T045900Z
SUMMARY:Zefeng Fang, viola
DESCRIPTION:
  Price: free\n
 Sponsor: College of Music\n
 Sponsor's Homepage: http://www.music.msu.edu\n
 Contact name: Nick Culver\n
 Contact phone: (517) 353-5340\n
 Contact email: musicpr@msu.edu\n
LOCATION:Cook Recital Hall
END:VEVENT
END:VCALENDAR
