BEGIN:VCALENDAR
VERSION:2.0
METHOD:PUBLISH
PRODID:-//Virginia Tech//VT Calendar//EN
BEGIN:VEVENT
DTSTAMP:20200122T170000Z
UID:1578494425455-0003@events.msu.edu
CATEGORIES:Conferences / Seminars / Lectures
DTSTART:20200122T170000Z
DTEND:20200122T180000Z
SUMMARY:Cell and Molecular Biology Program Research Forum
DESCRIPTION:
 MOVED TO ZOOM\n
 All seminars will be held in 1425 
 BPS on Wednesdays at 12:00 PM unless otherwise 
 noted\n
 \n
 Speaker name: \n
 Presentation Title:\n\n
 Price: free\n
 Sponsor: Cell and Molecular Biology Program\n
 Sponsor's Homepage: https://cmb.natsci.msu.edu/\n
 Contact name: Cell and Molecular Biology Program\n
 Contact phone: (517) 884-5299\n
 Contact email: cmb@msu.edu\n
 for more info visit the web at:\n 
 https://cmb.natsci.msu.edu/current-students/research-forum-schedule/\n
LOCATION:1425 BPS
END:VEVENT
END:VCALENDAR
