BEGIN:VCALENDAR
VERSION:2.0
METHOD:PUBLISH
PRODID:-//Virginia Tech//VT Calendar//EN
BEGIN:VEVENT
DTSTAMP:20200212T230000Z
UID:1578939243545@events.msu.edu
CATEGORIES:Special Events
DTSTART:20200212T230000Z
DTEND:20200213T010000Z
SUMMARY:Intro to Drawing Class: Tools and Tactics
DESCRIPTION:
 Join our inaugural three-week drawing class, led 
 by Art Lab Educator Britta Urness. Intended 
 for new or out-of-practice drawers, this class 
 will introduce observational drawing skills 
 with fun, quirky still life setups and approachable 
 drawing instruction. We'll progress 
 from simple forms to more complex drawings, 
 building our skills as we go. Cost of registration 
 ($90) covers instruction and all materials. 
 Register at the link below.\n\n
 Price: $90 with registration\n
 Sponsor: public\n
 Contact name: Broad MSU\n
 Contact phone: 5178844800\n
 Contact email: eebam@msu.edu\n
 for more info visit the web at:\n 
 http://50807.blackbaudhosting.com/50807/Intro-to-Drawing-Class-Tools-and-Tactics-February-5-12-19\n
LOCATION:MSU Broad Art Lab
END:VEVENT
END:VCALENDAR
