BEGIN:VCALENDAR
VERSION:2.0
METHOD:PUBLISH
PRODID:-//Virginia Tech//VT Calendar//EN
BEGIN:VEVENT
DTSTAMP:20200115T211000Z
UID:1579103910127@events.msu.edu
CATEGORIES:Conferences / Seminars / Lectures
DTSTART:20200115T211000Z
DTEND:20200115T220000Z
SUMMARY:Math Seminar Series
DESCRIPTION:
 Colloquium\n
 Speaker: Nathan Dowlin, Columbia University\n
 Title: 
 Quantum and symplectic invariants 
 in low-dimensional topology.\n
 Time: 4:10 
 PM - 5:00 PM\n
 Place: C304 Wells Hall \n\n
 Price: free\n
 Sponsor: Department of Mathematics\n
 Sponsor's Homepage: https://www.math.msu.edu/\n
 Contact name: Department of Mathematics\n
 Contact phone: (517) 353-0844\n
 for more info visit the web at:\n 
 https://www.math.msu.edu/Seminars/CalendarView.aspx?month-of=September2016\n
LOCATION:C304 Wells Hall
END:VEVENT
END:VCALENDAR
