BEGIN:VCALENDAR
VERSION:2.0
METHOD:PUBLISH
PRODID:-//Virginia Tech//VT Calendar//EN
BEGIN:VEVENT
DTSTAMP:20200223T170000Z
UID:1579634204379@events.msu.edu
CATEGORIES:Performing Arts (Dance, Music, Theatre,  ...)
DTSTART:20200223T170000Z
DTEND:20200224T045900Z
SUMMARY:Kendra Wheeler, saxophone
DESCRIPTION:
  Price: free\n
 Sponsor: College of Music\n
 Sponsor's Homepage: http://www.music.msu.edu\n
 Contact name: Nick Culver\n
 Contact phone: (517) 353-5340\n
 Contact email: musicpr@msu.edu\n
LOCATION:Cook Recital Hall
END:VEVENT
END:VCALENDAR
