BEGIN:VCALENDAR
VERSION:2.0
METHOD:PUBLISH
PRODID:-//Virginia Tech//VT Calendar//EN
BEGIN:VEVENT
DTSTAMP:20200221T223000Z
UID:1582042452365@events.msu.edu
CATEGORIES:Performing Arts (Dance, Music, Theatre,  ...)
DTSTART:20200221T223000Z
DTEND:20200222T003000Z
SUMMARY:Cello Piano Duo Concert featuring Imjeong Choi and Minhae Lee
DESCRIPTION:
 Performers:\n
 \n
 Imjeong Choi (cello) \n
 \n
 Imjeong 
 Choi is a South Korean cellist. She graduated 
 from Hanyang University in Seoul, South Korea, 
 with a bachelor of music degree, in addition 
 to receiving an education of music degree. 
 She earned her master's degree in cello performance 
 at MSU in 2019. In South Korea, Choi 
 worked as a cello teacher, completed an internship 
 at Muhak Middle School and received first 
 prize in the Hanyang Chamber Music Competition. 
 In the United States, she spent a summer 
 working in the Ohio Light Opera. She is also 
 a member of the Midland Symphony Orchestra 
 and the Asian Youth Orchestra. Currently, Choi 
 is pursuing her doctor of musical arts degree 
 in cello performance at MSU.\n
 \n
 Minhae Lee 
 (piano)\n
 \n
 Pianist Minhae Lee is the winner 
 of the Chicago North Shore Musicians Club scholarship, 
 the Honors Concerto Competition at 
 Michigan State University, the New Tang Dynasty 
 Television International Piano Competition, 
 the "Golden Classical Music Awards" International 
 Competition, the Taegu Broadcasting 
 Corporation Daegu Broadcasting Corporation Competition 
 and the Daejin University Piano Competition. 
 Lee completed her bachelor's and master's 
 degrees from Yonsei University in Seoul. 
 She worked as collaborative pianist staff 
 at the Jeju International Brass Competition, 
 Manhattan, in the Mountain Summer Festival, Manhattan 
 School of Music, Michigan State University 
 and the Aspen Music Summer Festival. Minhae 
 Lee is an adjunct faculty member at Alma 
 College, and is a piano faculty member of the 
 Community Music School at Michigan State University. 
 She is currently completing her second 
 doctoral degree in collaborative piano, 
 and her second master's degree in piano pedagogy 
 at MSU.\n
 \n\n
 Price: free\n
 Sponsor: public\n
 Contact name: Robert Patterer\n
 Contact phone: 517-908-7573\n
 Contact email: events@frib.msu.edu\n
 for more info visit the web at:\n 
 https://frib.msu.edu/gateway/events/concert-21february.html\n
LOCATION:1300 FRIB Laboratory
END:VEVENT
END:VCALENDAR
