BEGIN:VCALENDAR
VERSION:2.0
METHOD:PUBLISH
PRODID:-//Virginia Tech//VT Calendar//EN
BEGIN:VEVENT
DTSTAMP:20200318T223000Z
UID:1582818860888@events.msu.edu
CATEGORIES:Special Events
DTSTART:20200318T223000Z
DTEND:20200319T003000Z
SUMMARY:2020 Inspirational Woman of the Year Award Reception
DESCRIPTION:
 Join us for an evening celebrating the 2020 Inspirational 
 Woman of the Year Award recipients! 
 Women and femme-identified individuals from 
 the MSU & Mid-Michigan community will be recognized. 
 Visit tinyurl.com/iwoty2020 to reserve 
 your $10 ticket.\n
 \n
 Ticket price includes 
 entrance, hors d'oeuvres, and one drink ticket. 
 There will be a cash bar available. Event 
 to be held in the Jackson Lounge of the Wharton 
 Center. \n
 \n
 2020 Premium Sponsors: MSU Center 
 for Gender in Global Context (GenCen); Waggoner 
 Financial; MSU Student Affairs & Services\n
 2020 
 Sponsors: Asian Buffet; Candlewood 
 Suites Lansing; Celtic Expressions; Foods for 
 Living; Health & Harmony Massage & Wellness 
 Center; Henry's Place; Kellogg Catering; Kellogg 
 Hotel & Conference Center; Lansing Brewing 
 Company; Lansing City Pulse; Lansing First 
 Presbyterian Church; NCG Eastwood Cinema; Schaefer 
 Dental Group; The Equipoise Ladies; The 
 People's Kitchen; Williams Subaru\n\n
 Price: $10\n
 Sponsor: public\n
 Contact name: Emily Khan\n
 Contact phone: 517-353-8812\n
 Contact email: gencen@msu.edu\n
 for more info visit the web at:\n 
 https://www.eventbrite.com/e/gencen-international-woman-of-the-year-award-2020-tickets-89091815017\n
LOCATION:Wharton Center, Jackson Lounge
END:VEVENT
END:VCALENDAR
