BEGIN:VCALENDAR
VERSION:2.0
METHOD:PUBLISH
PRODID:-//Virginia Tech//VT Calendar//EN
BEGIN:VEVENT
DTSTAMP:20200315T200000Z
UID:1583868632053@events.msu.edu
CATEGORIES:Performing Arts (Dance, Music, Theatre,  ...)
DTSTART:20200315T200000Z
DTEND:20200316T045900Z
SUMMARY:MSU Community Music School New Horizons Chamber Recital
DESCRIPTION:
 Celebrate the beginning of spring with a community 
 recital featuring the MSU Community Music 
 School New Horizons Chamber Bands. This family-friendly 
 event is free and open to the public.\n\n
 Price: free\n
 Sponsor: public\n
 Contact name: CMS\n
 Contact email: commusic@msu.edu\n
 for more info visit the web at:\n 
 https://cms.msu.edu/el/events/new-horizons-chamber-recital-mar15.html\n
LOCATION:MSU Community Music School
END:VEVENT
END:VCALENDAR
