BEGIN:VCALENDAR
VERSION:2.0
METHOD:PUBLISH
PRODID:-//Virginia Tech//VT Calendar//EN
BEGIN:VEVENT
DTSTAMP:20200425T150000Z
UID:1586468293453@events.msu.edu
CATEGORIES:Academic
DTSTART:20200425T150000Z
DTEND:20200425T170000Z
SUMMARY:Saturday Morning Science
DESCRIPTION:
 Every Saturday morning in April, there will be 
 presentations and demonstrations across the 
 STEAM disciplines. Appropriate for all ages. 
 Presentations will be live on Facebook. For more 
 information visit https://sciencefestival.msu.edu/digital-resources/digital-presentations-schedules/saturday-morning-science\n\n
 Price: free\n
 Sponsor: Administration\n
 Sponsor's Homepage: http://shorturl.at/orA02\n
 for more info visit the web at:\n 
 http://shorturl.at/orA02\n
END:VEVENT
END:VCALENDAR
