BEGIN:VCALENDAR
VERSION:2.0
METHOD:PUBLISH
PRODID:-//Virginia Tech//VT Calendar//EN
BEGIN:VEVENT
DTSTAMP:20200415T140000Z
UID:1586957938213-0003@events.msu.edu
CATEGORIES:Special Events
DTSTART:20200415T140000Z
DTEND:20200415T150000Z
SUMMARY:WorkLife Daily Coffee Conversations
DESCRIPTION:
 Join the WorkLife team including Jaimie Hutchison, 
 Barbara Roberts, Maranda Holtsclaw, Tiana 
 Carter, John Girdwood and your colleagues across 
 the university as we connect with each 
 other to offer support and guidance about WorkLife 
 issues during this unique time.  Open to 
 all staff, faculty and post-docs. Topics include 
 family care, working from home, remaining 
 connected, staying healthy, and supporting 
 you!\n\n
 Price: free\n
 Sponsor: Administration\n
 Sponsor's Homepage: https://worklife.msu.edu/campusflex-webinars\n
 for more info visit the web at:\n 
 https://worklife.msu.edu/campusflex-webinars\n
LOCATION:Zoom 
END:VEVENT
END:VCALENDAR
