BEGIN:VCALENDAR
VERSION:2.0
METHOD:PUBLISH
PRODID:-//Virginia Tech//VT Calendar//EN
BEGIN:VEVENT
DTSTAMP:20200506T160000Z
UID:1587998696806-0001@events.msu.edu
CATEGORIES:Special Events
DTSTART:20200506T160000Z
DTEND:20200506T170000Z
SUMMARY:Yoga and Mindfulness Class
DESCRIPTION:
 Please join the Support Staff Advisory Committee 
 for a free weekly yoga and mindfulness class 
 via zoom taught by Taylor Guarnaccia, communications 
 coordinator and certified yoga teacher. 
 Join the Zoom Meeting at https://msu.zoom.us/j/477356125. 
 Reach out to Taylor, guarna10@msu.edu 
 for the password.\n
 \n\n
 Price: free\n
 Sponsor: Administration\n
 Sponsor's Homepage: https://edwp.educ.msu.edu/event/yoga-and-mindfulness/2020-05-06/\n
 for more info visit the web at:\n 
 https://edwp.educ.msu.edu/event/yoga-and-mindfulness/2020-05-06/\n
LOCATION:Zoom 
END:VEVENT
END:VCALENDAR
