BEGIN:VCALENDAR
VERSION:2.0
METHOD:PUBLISH
PRODID:-//Virginia Tech//VT Calendar//EN
BEGIN:VEVENT
DTSTAMP:20200617T150000Z
UID:1591626793866@events.msu.edu
CATEGORIES:Conferences / Seminars / Lectures
DTSTART:20200617T150000Z
DTEND:20200618T035900Z
SUMMARY:National Superconducting Cyclotron Laboratory Seminar
DESCRIPTION:
 The ISOLDE Facility at CERN is the worlds leading 
 facility for the production of radioactive 
 ion beams using the ISOL (Isotope Separation 
 On-Line) method. This presentation will give 
 an overview of the many physics questions addressed 
 by the wide variety of ISOLDE experimental 
 set-up, with recent examples in different 
 fields of research. The speaker of this seminar 
 will be Gerda Neyens from CERN. \n\n
 Price: free\n
 Sponsor: National Superconducting Cyclotron Laboratory\n
 Sponsor's Homepage: http://www.nscl.msu.edu/\n
 Contact name: National Superconducting Cyclotron Laboratory\n
 Contact phone: 517-355-9671\n
 Contact email: nscl.msu.edu\n
 for more info visit the web at:\n 
 http://www.nscl.msu.edu/apps/seminars.php\n
LOCATION:Online via Zoom
END:VEVENT
END:VCALENDAR
