BEGIN:VCALENDAR
VERSION:2.0
METHOD:PUBLISH
PRODID:-//Virginia Tech//VT Calendar//EN
BEGIN:VEVENT
DTSTAMP:20200622T040000Z
UID:1591897661990-0001@events.msu.edu
CATEGORIES:Academic
DTSTART;VALUE=DATE:20200622
DTEND;VALUE=DATE:20200623
SUMMARY:4-H Shooting Sports Quiz Bowl
DESCRIPTION:
 Contest covers safety, risk management, 4-H history, 
 youth development and all discipline areas 
 (shotgun, archery, rifle, hunting skills, 
 muzzle loading, pistol, and western heritage). 
 Competition will take place June 22-26, 2020.\n\n
 Price: free\n
 Sponsor: Administration\n
 Sponsor's Homepage: http://events.msu.edu/\n
 for more info visit the web at:\n 
 https://www.canr.msu.edu/events/4-h-shooting-sports-quiz-bowl\n
END:VEVENT
END:VCALENDAR
