BEGIN:VCALENDAR
VERSION:2.0
METHOD:PUBLISH
PRODID:-//Virginia Tech//VT Calendar//EN
BEGIN:VEVENT
DTSTAMP:20200804T130000Z
UID:1593111401354@events.msu.edu
CATEGORIES:Conferences / Seminars / Lectures
DTSTART:20200804T130000Z
DTEND:20200804T170000Z
SUMMARY:Homeownership Webinar
DESCRIPTION:
 This homeownership seminar from MSU Extension 
 will provide you with valuable information about 
 the home buying process, and will teach about 
 the advantages of homeownership, the steps 
 in the home buying process and more.\n\n
 Price: free\n
 Sponsor: Administration\n
 Sponsor's Homepage: http://events.msu.edu/\n
 for more info visit the web at:\n 
 https://www.canr.msu.edu/events/homeownership-webinar-mshda-august-4\n
END:VEVENT
END:VCALENDAR
