BEGIN:VCALENDAR
VERSION:2.0
METHOD:PUBLISH
PRODID:-//Virginia Tech//VT Calendar//EN
BEGIN:VEVENT
DTSTAMP:20200820T000000Z
UID:1593111894708-0003@events.msu.edu
CATEGORIES:Conferences / Seminars / Lectures
DTSTART:20200820T000000Z
DTEND:20200820T013000Z
SUMMARY:Building Early Emotional Skills for Parents Webinar Series
DESCRIPTION:
 Parenting stress? New baby in the house? Trouble 
 with tantrums? Learn how to help your young 
 child manage their strong emotions! Building 
 Early Emotional Skills  is a four-week class 
 for parents and other primary caregivers of 
 children 0-3 that teaches about how young children 
 develop social emotional skills and helps 
 give parents skills to deal with the stress 
 of caring for children and help their children 
 develop strong social emotional skills.\n\n
 Price: free\n
 Sponsor: Administration\n
 Sponsor's Homepage: http://events.msu.edu/\n
 for more info visit the web at:\n 
 http://shorturl.at/ehipI\n
END:VEVENT
END:VCALENDAR
