BEGIN:VCALENDAR
VERSION:2.0
METHOD:PUBLISH
PRODID:-//Virginia Tech//VT Calendar//EN
BEGIN:VEVENT
DTSTAMP:20200818T200000Z
UID:1594065257216@events.msu.edu
CATEGORIES:Conferences / Seminars / Lectures
DTSTART:20200818T200000Z
DTEND:20200818T210000Z
SUMMARY:Foreclosure Basics
DESCRIPTION:
 With the current COVID-19 crisis, many have experienced 
 a loss or reduction of income.  This 
 webinar will describe the options to keep, 
 sell or let foreclosure happen.\n\n
 Price: free\n
 Sponsor: Administration\n
 Sponsor's Homepage: http://events.msu.edu/\n
 for more info visit the web at:\n 
 https://www.canr.msu.edu/events/foreclosure-basics-august-18\n
LOCATION:Online
END:VEVENT
END:VCALENDAR
