BEGIN:VCALENDAR
VERSION:2.0
METHOD:PUBLISH
PRODID:-//Virginia Tech//VT Calendar//EN
BEGIN:VEVENT
DTSTAMP:20200821T130000Z
UID:1594150890694@events.msu.edu
CATEGORIES:Conferences / Seminars / Lectures
DTSTART:20200821T130000Z
DTEND:20200821T170000Z
SUMMARY:Homeownership Webinar
DESCRIPTION:
 This homeownership seminar from MSU Extension 
 will provide you with valuable information about 
 the home buying process, and will teach you 
 things like the advantages of homeownership, 
 the costs of homeownership and more\n\n
 Price: free\n
 Sponsor: Administration\n
 Sponsor's Homepage: http://events.msu.edu/\n
 for more info visit the web at:\n 
 https://www.canr.msu.edu/events/homeownership-webinar-mshda-august-21\n
LOCATION:Online
END:VEVENT
END:VCALENDAR
