BEGIN:VCALENDAR
VERSION:2.0
METHOD:PUBLISH
PRODID:-//Virginia Tech//VT Calendar//EN
BEGIN:VEVENT
DTSTAMP:20200825T200000Z
UID:1594150991932@events.msu.edu
CATEGORIES:Conferences / Seminars / Lectures
DTSTART:20200825T200000Z
DTEND:20200825T210000Z
SUMMARY:4-H Teen Tuesday: 100% Cocoa: All About Chocolate
DESCRIPTION:
 Intended as a place for current 4-H members to 
 connect with their peers across the state while 
 learning about a wide array of 4-H project 
 areas. These weekly sessions will focus on 
 a different 4-H topic each week and provide lots 
 of opportunities for conversation and interaction.\n\n
 Price: free\n
 Sponsor: Administration\n
 Sponsor's Homepage: http://events.msu.edu/\n
 for more info visit the web at:\n 
 https://www.canr.msu.edu/events/august-25-4-h-teen-tuesday-100-cocoa-all-about-chocolate\n
LOCATION:zoom
END:VEVENT
END:VCALENDAR
